BEGIN:VCALENDAR
VERSION:2.0
PRODID:-//Stewart Community Upliftment Project - ECPv6.15.20//NONSGML v1.0//EN
CALSCALE:GREGORIAN
METHOD:PUBLISH
X-ORIGINAL-URL:https://stcupjamaica.org
X-WR-CALDESC:Events for Stewart Community Upliftment Project
REFRESH-INTERVAL;VALUE=DURATION:PT1H
X-Robots-Tag:noindex
X-PUBLISHED-TTL:PT1H
BEGIN:VTIMEZONE
TZID:UTC
BEGIN:STANDARD
TZOFFSETFROM:+0000
TZOFFSETTO:+0000
TZNAME:UTC
DTSTART:20230101T000000
END:STANDARD
END:VTIMEZONE
BEGIN:VEVENT
DTSTART;VALUE=DATE:20250805
DTEND;VALUE=DATE:20250806
DTSTAMP:20260424T014939
CREATED:20241129T181430Z
LAST-MODIFIED:20241129T224852Z
UID:2946-1754352000-1754438399@stcupjamaica.org
SUMMARY:Back to School Treat & Fun Day Fair
DESCRIPTION:
URL:https://stcupjamaica.org/event/back-to-school-treat-fun-day-fair/
ATTACH;FMTTYPE=image/jpeg:https://stcupjamaica.org/wp-content/uploads/2024/11/IMG_1802.jpg
END:VEVENT
BEGIN:VEVENT
DTSTART;VALUE=DATE:20250628
DTEND;VALUE=DATE:20250630
DTSTAMP:20260424T014939
CREATED:20240617T202426Z
LAST-MODIFIED:20241129T225139Z
UID:2845-1751068800-1751241599@stcupjamaica.org
SUMMARY:Annual Fish Fry
DESCRIPTION:
URL:https://stcupjamaica.org/event/annual-fish-fry/
CATEGORIES:Fish Fry
ATTACH;FMTTYPE=image/png:https://stcupjamaica.org/wp-content/uploads/2024/06/fish-plates-new.png
END:VEVENT
BEGIN:VEVENT
DTSTART;VALUE=DATE:20241213
DTEND;VALUE=DATE:20241214
DTSTAMP:20260424T014939
CREATED:20240617T202854Z
LAST-MODIFIED:20241203T180541Z
UID:2855-1734048000-1734134399@stcupjamaica.org
SUMMARY:Annual Dinner Dance
DESCRIPTION:
URL:https://stcupjamaica.org/event/annual-dinner-dance/
CATEGORIES:Annual Events
ATTACH;FMTTYPE=image/jpeg:https://stcupjamaica.org/wp-content/uploads/2024/06/IMG_1440.jpg
END:VEVENT
BEGIN:VEVENT
DTSTART;VALUE=DATE:20241206
DTEND;VALUE=DATE:20241207
DTSTAMP:20260424T014939
CREATED:20241203T183534Z
LAST-MODIFIED:20241204T142647Z
UID:3165-1733443200-1733529599@stcupjamaica.org
SUMMARY:Meeting & Social
DESCRIPTION:
URL:https://stcupjamaica.org/event/meeting-social/
ATTACH;FMTTYPE=image/jpeg:https://stcupjamaica.org/wp-content/uploads/2024/12/WhatsApp-Image-2024-12-03-at-1.25.40-PM.jpeg
END:VEVENT
BEGIN:VEVENT
DTSTART;TZID=UTC:20241203T080000
DTEND;TZID=UTC:20250102T170000
DTSTAMP:20260424T014939
CREATED:20241203T180441Z
LAST-MODIFIED:20241203T180441Z
UID:3133-1733212800-1735837200@stcupjamaica.org
SUMMARY:Giving Tuesdays
DESCRIPTION:
URL:https://stcupjamaica.org/event/giving-tuesdays/
ATTACH;FMTTYPE=image/jpeg:https://stcupjamaica.org/wp-content/uploads/2024/11/IMG_1802.jpg
END:VEVENT
END:VCALENDAR